BEGIN:VCALENDAR
VERSION:2.0
PRODID:-//wp-events-plugin.com//7.2.2.1//EN
TZID:America/Los_Angeles
X-WR-TIMEZONE:America/Los_Angeles
BEGIN:VEVENT
UID:45@gettrainedtohelp.com
DTSTART;TZID=America/Los_Angeles:20240222T090000
DTEND;TZID=America/Los_Angeles:20240222T163000
DTSTAMP:20240119T005058Z
URL:https://gettrainedtohelp.com/events/youth-mental-health-first-aid-ymhf
 a-in-person-portland-mc/
SUMMARY:Youth Mental Health First Aid (YMHFA) - In Person - Portland (MC)
DESCRIPTION:Youth Mental Health First Aid is designed for adults who regula
 rly interact with young people.\n\nThe class teaches parents\, family memb
 ers\, caregivers\, teachers\, school staff\, peers\, neighbors\, social se
 rvice/faith/community staff\, volunteers\, and other caring community memb
 ers\, on how to support a young person (ages 12-18) experiencing a mental 
 health issue\, addictions challenge\, and/or a crisis.\n\nThe course intro
 duces common mental health challenges for youth and provides a 5-step Ment
 al Health First Aid Action Plan (ALGEE) for how to help young people in bo
 th crisis and non-crisis situations.\n\n***In addition to confirmation ema
 il\, you will receive a pre-training email 3 days prior to the training wi
 th additional info and instructions. ***
ATTACH;FMTTYPE=image/jpeg:https://i0.wp.com/gettrainedtohelp.com/wp-conten
 t/uploads/2023/06/MHFA-Logo.png?fit=783%2C740&ssl=1
CATEGORIES:English,Hosted by GetTrainedToHelp,In-Person,Youth Mental
 Health First Aid (YMHFA)
LOCATION:DHS East Branch\, 11826 NE Glisan St\, Portland\, Oregon\, 97220\,
  Multnomah County\, United States
GEO:45.524802;-122.540799
X-APPLE-STRUCTURED-LOCATION;VALUE=URI;X-ADDRESS=11826 NE Glisan St\, Portla
 nd\, Oregon\, 97220\, Multnomah County\, United States;X-APPLE-RADIUS=100;
 X-TITLE=DHS East Branch:geo:45.524802,-122.540799
END:VEVENT
BEGIN:VTIMEZONE
TZID:America/Los_Angeles
X-LIC-LOCATION:America/Los_Angeles
BEGIN:STANDARD
DTSTART:20231105T010000
TZOFFSETFROM:-0700
TZOFFSETTO:-0800
TZNAME:PST
END:STANDARD
END:VTIMEZONE
END:VCALENDAR