BEGIN:VCALENDAR
VERSION:2.0
PRODID:-//wp-events-plugin.com//7.2.2.1//EN
TZID:America/Los_Angeles
X-WR-TIMEZONE:America/Los_Angeles
BEGIN:VEVENT
UID:151@gettrainedtohelp.com
DTSTART;TZID=America/Los_Angeles:20260322T130000
DTEND;TZID=America/Los_Angeles:20260322T150000
DTSTAMP:20260312T024923Z
URL:https://gettrainedtohelp.com/events/question-persuade-refer-qpr/
SUMMARY:Question\, Persuade\, Refer (QPR)
DESCRIPTION:Question\, Persuade\, Refer (QPR) (2 hours) is a brief\, eviden
 ce-based suicide prevention training that teaches community members how to
  recognize the warning signs of suicide\, ask directly about suicidal thou
 ghts\, persuade someone to seek help\, and refer them to appropriate resou
 rces. Often described as the “CPR of suicide prevention\,” QPR equips 
 participants with simple\, practical skills that can be used with friends\
 , family members\, coworkers\, students\, or community members.\n\nPartici
 pants learn common risk factors and warning signs\, how to have a direct a
 nd compassionate conversation about suicide\, and how to connect someone t
 o professional or community-based support. QPR is appropriate for a wide r
 ange of audiences\, including youth-serving professionals\, healthcare pro
 viders\, faith leaders\, employers\, and community members. Additionally\,
  participants will learn how to have respectful\, effective conversations 
 about reducing access to lethal means—particularly firearms and medicati
 ons—during times of suicide risk. Research shows that creating time and 
 distance between a person in crisis and lethal means can save lives.\n\nLo
 cation: Douglas Ridgel Rifle Club\n\nEvent Gate Code: 20215#\n\nPizza lunc
 h will be provided
ATTACH;FMTTYPE=image/jpeg:https://i0.wp.com/gettrainedtohelp.com/wp-conten
 t/uploads/2023/05/QPR-Institute-logo.png?fit=2245%2C1189&ssl=1&ver=1720038
 503
CATEGORIES:English,In-Person,Question, Persuade, Refer (QPR)
LOCATION:Douglas Ridge Rifle Club\, 27787 Hwy 224\, Eagle Creek\, Oregon\, 
 97022\, Clackamas County\, United States
GEO:45.373548;-122.376062
X-APPLE-STRUCTURED-LOCATION;VALUE=URI;X-ADDRESS=27787 Hwy 224\, Eagle Creek
 \, Oregon\, 97022\, Clackamas County\, United States;X-APPLE-RADIUS=100;X-
 TITLE=Douglas Ridge Rifle Club:geo:45.373548,-122.376062
END:VEVENT
BEGIN:VTIMEZONE
TZID:America/Los_Angeles
X-LIC-LOCATION:America/Los_Angeles
BEGIN:DAYLIGHT
DTSTART:20260308T030000
TZOFFSETFROM:-0800
TZOFFSETTO:-0700
TZNAME:PDT
END:DAYLIGHT
END:VTIMEZONE
END:VCALENDAR