BEGIN:VCALENDAR
VERSION:2.0
PRODID:-//wp-events-plugin.com//7.2.2.1//EN
TZID:America/Los_Angeles
X-WR-TIMEZONE:America/Los_Angeles
BEGIN:VEVENT
UID:153@gettrainedtohelp.com
DTSTART;TZID=America/Los_Angeles:20260417T103000
DTEND;TZID=America/Los_Angeles:20260417T123000
DTSTAMP:20260403T003501Z
URL:https://gettrainedtohelp.com/events/question-persuade-refer-qpr-suicid
 e-prevention-training/
SUMMARY:Question Persuade Refer (QPR) Suicide Prevention Training
DESCRIPTION:April 17\, 2026\nLedding Library\n10660 SE 21st Ave\, Milwaukie
 \, OR 97222\n10.30 a.m. - 12:30 p.m.\n\nQuestion\, Persuade\, Refer (QPR) 
 is a brief\, evidence-based suicide prevention training that teaches commu
 nity members how to recognize the warning signs of suicide\, ask directly 
 about suicidal thoughts\, persuade someone to seek help\, and refer them t
 o appropriate resources. Often described as the “CPR of suicide preventi
 on\,” QPR equips participants with simple\, practical skills that can be
  used with friends\, family members\, coworkers\, students\, or community 
 members.\n\nPlease use THIS LINK to Register: https://www.surveymonkey.com
 /r/PWDRKKX
ATTACH;FMTTYPE=image/jpeg:https://i0.wp.com/gettrainedtohelp.com/wp-conten
 t/uploads/2023/05/QPR-Institute-logo.png?fit=2245%2C1189&ssl=1&ver=1720038
 503
CATEGORIES:English,In-Person,Question, Persuade, Refer (QPR),Suicide
 Prevention Classes
LOCATION:Ledding Library\, 10660 SE 21st Ave\, Milwaukie\, OR\, Clackamas C
 ounty\, 97222\, United States
X-APPLE-STRUCTURED-LOCATION;VALUE=URI;X-ADDRESS=10660 SE 21st Ave\, Milwauk
 ie\, OR\, Clackamas County\, 97222\, United States;X-APPLE-RADIUS=100;X-TI
 TLE=Ledding Library:geo:0,0
END:VEVENT
BEGIN:VTIMEZONE
TZID:America/Los_Angeles
X-LIC-LOCATION:America/Los_Angeles
BEGIN:DAYLIGHT
DTSTART:20260308T030000
TZOFFSETFROM:-0800
TZOFFSETTO:-0700
TZNAME:PDT
END:DAYLIGHT
END:VTIMEZONE
END:VCALENDAR