BEGIN:VCALENDAR
VERSION:2.0
PRODID:-//wp-events-plugin.com//7.2.2.1//EN
TZID:America/Los_Angeles
X-WR-TIMEZONE:America/Los_Angeles
BEGIN:VEVENT
UID:150@gettrainedtohelp.com
DTSTART;TZID=America/Los_Angeles:20260511T100000
DTEND;TZID=America/Los_Angeles:20260511T120000
DTSTAMP:20260320T152128Z
URL:https://gettrainedtohelp.com/events/qpr-suicide-prevention-training-vi
 rtual-wc-2/
SUMMARY:BSBB MH: Be Sensitive\, Be Brave for Mental Health (Virtual - WC)
DESCRIPTION:BSBB MH: Be Sensitive\, Be Brave for Mental Health\nLength: 2 h
 ours\n\n&nbsp\;\n\nThe Be Sensitive\, Be Brave for Mental Health training 
 infuses culture and diversity throughout a foundational workshop on mental
  health and mental health conditions. This workshop prepares community mem
 bers to help friends and loved ones of all ages during times of mental hea
 lth distress.\n\nParticipants will learn to:\n\n 	Identify when you or oth
 ers are in mental distress\n 	Be sensitive and brave in helping others\n 	
 Increase awareness of mental health resources\n 	Prevent mental health con
 ditions by using a recipe for mental wellness\n 	Build cultural sensitivit
 y around mental health conditions\n 	Increase community responsiveness and
  decrease stigma\n\nLearn more about the Oregon BSBB Statewide Program.\nO
 nce registered\, you will receive a registration confirmation email. \nIn 
 addition\, an email will be sent 2-3 days prior to the training date with 
 preparation instructions and the Zoom link. \n\n\n\n
ATTACH;FMTTYPE=image/jpeg:https://i0.wp.com/gettrainedtohelp.com/wp-conten
 t/uploads/2023/05/QPR-Institute-logo.png?fit=2245%2C1189&ssl=1&ver=1720038
 503
CATEGORIES:English,Hosted by GetTrainedToHelp,Question, Persuade, Refer
 (QPR),Virtual
LOCATION:#
END:VEVENT
BEGIN:VTIMEZONE
TZID:America/Los_Angeles
X-LIC-LOCATION:America/Los_Angeles
BEGIN:DAYLIGHT
DTSTART:20260308T030000
TZOFFSETFROM:-0800
TZOFFSETTO:-0700
TZNAME:PDT
END:DAYLIGHT
END:VTIMEZONE
END:VCALENDAR