BEGIN:VCALENDAR
VERSION:2.0
PRODID:-//wp-events-plugin.com//7.2.2.1//EN
TZID:America/Los_Angeles
X-WR-TIMEZONE:America/Los_Angeles
BEGIN:VEVENT
UID:41@gettrainedtohelp.com
DTSTART;TZID=America/Los_Angeles:20240118T100000
DTEND;TZID=America/Los_Angeles:20240118T120000
DTSTAMP:20231222T003426Z
URL:https://gettrainedtohelp.com/events/qpr-question-persuade-refer-virtua
 l-live-mc-3/
SUMMARY:QPR (Question\, Persuade\, Refer) - Virtual\, Live (MC)
DESCRIPTION:QPR (Question\, Persuade\, Refer) Suicide Prevention Gatekeeper
  Training.\nIn this training\, you will learn how to recognize the warning
  signs of a suicide crisis and how to question\, persuade\, and refer some
 one to get help.\nKey Components Covered in the Training:  \n\n 	How to 
 Question\, Persuade and Refer someone who may be suicidal\n 	How to get he
 lp for yourself or learn more about preventing suicide\n 	The common cause
 s of suicidal behavior\n 	The warning signs of suicide\n 	How to get help 
 for someone in crisis\n\nOnce registered\, you will receive an email 2-3 d
 ays prior to the training date with preparation instructions and Zoom link
 . \n\n\n\n
ATTACH;FMTTYPE=image/jpeg:https://i0.wp.com/gettrainedtohelp.com/wp-conten
 t/uploads/2023/05/QPR-Institute-logo.png?fit=2245%2C1189&ssl=1&ver=1720038
 503
CATEGORIES:English,Hosted by GetTrainedToHelp,Question, Persuade, Refer
 (QPR),Virtual
LOCATION:#
END:VEVENT
BEGIN:VTIMEZONE
TZID:America/Los_Angeles
X-LIC-LOCATION:America/Los_Angeles
BEGIN:STANDARD
DTSTART:20231105T010000
TZOFFSETFROM:-0700
TZOFFSETTO:-0800
TZNAME:PST
END:STANDARD
END:VTIMEZONE
END:VCALENDAR