BEGIN:VCALENDAR
VERSION:2.0
PRODID:-//wp-events-plugin.com//7.2.2.1//EN
TZID:America/Los_Angeles
X-WR-TIMEZONE:America/Los_Angeles
BEGIN:VEVENT
UID:146@gettrainedtohelp.com
DTSTART;TZID=America/Los_Angeles:20260421T173000
DTEND;TZID=America/Los_Angeles:20260421T193000
DTSTAMP:20260309T204542Z
URL:https://gettrainedtohelp.com/events/qpr-question-persuade-refer-suicid
 e-prevention-training-3/
SUMMARY:QPR (Question\, persuade\, refer) Suicide Prevention Training
DESCRIPTION:QPR (Question\, Persuade\, Refer) Suicide Prevention Training.\
 nIn this training\, you will learn how to recognize the warning signs of a
  suicide crisis and how to question\, persuade\, and refer someone to get 
 help.\nKey Components Covered in the Training:  \n\n 	How to Question\, 
 Persuade and Refer someone who may be suicidal\n 	Suicide Data Overview\n 
 	The Risk &amp\; Protective Factors\n 	Safe Language\n 	The warning signs 
 of suicide\n 	How to get help for someone in crisis\n 	Myths/facts about s
 uicide\n 	Reducing access to lethal means\n\nTo register\, please email: c
 cosenzo@justcreatecommunity.com
ATTACH;FMTTYPE=image/jpeg:https://i0.wp.com/gettrainedtohelp.com/wp-conten
 t/uploads/2023/05/QPR-Institute-logo.png?fit=2245%2C1189&ssl=1&ver=1720038
 503
CATEGORIES:English,Hosted by GetTrainedToHelp,Question, Persuade, Refer
 (QPR),Virtual
LOCATION:Hillsboro Brookwood Library\, 2850 NE Brookwood Pkwy\, Hillsboro\,
  Oregon\, 97124\, United States
X-APPLE-STRUCTURED-LOCATION;VALUE=URI;X-ADDRESS=2850 NE Brookwood Pkwy\, Hi
 llsboro\, Oregon\, 97124\, United States;X-APPLE-RADIUS=100;X-TITLE=Hillsb
 oro Brookwood Library:geo:0,0
END:VEVENT
BEGIN:VTIMEZONE
TZID:America/Los_Angeles
X-LIC-LOCATION:America/Los_Angeles
BEGIN:DAYLIGHT
DTSTART:20260308T030000
TZOFFSETFROM:-0800
TZOFFSETTO:-0700
TZNAME:PDT
END:DAYLIGHT
END:VTIMEZONE
END:VCALENDAR