BEGIN:VCALENDAR
VERSION:2.0
PRODID:-//wp-events-plugin.com//7.2.2.1//EN
TZID:America/Los_Angeles
X-WR-TIMEZONE:America/Los_Angeles
BEGIN:VEVENT
UID:152@gettrainedtohelp.com
DTSTART;TZID=America/Los_Angeles:20260401T090000
DTEND;TZID=America/Los_Angeles:20260401T110000
DTSTAMP:20260330T175442Z
URL:https://gettrainedtohelp.com/events/older-adult-qpr-suicide-prevention
 -training-virtual-wc/
SUMMARY:Older Adult QPR Suicide Prevention Training - Virtual (WC)
DESCRIPTION:QPR (Question\, Persuade\, Refer) Suicide Prevention Training.\
 nIn this training\, you will learn how to recognize the warning signs of a
  suicide in older adults and how to question\, persuade\, and refer someon
 e to get help.\nKey Components Covered in the Training:  \n\n 	How to Qu
 estion\, Persuade and Refer an older adult who may be suicidal\n 	Older ad
 ult Suicide Data Overview\n 	The Risk &amp\; Protective Factors\n 	Safe La
 nguage\n 	Older Adult warning signs of suicide\n 	How to get help for an o
 lder adult in crisis\n 	Myths/facts about suicide\n\nOnce registered\, you
  will receive a registration confirmation email. \nIn addition\, an email 
 will be sent 2-3 days prior to the training date with preparation instruct
 ions and the Zoom link. \n\n\n\n
ATTACH;FMTTYPE=image/jpeg:https://i0.wp.com/gettrainedtohelp.com/wp-conten
 t/uploads/2023/05/QPR-Institute-logo.png?fit=2245%2C1189&ssl=1&ver=1720038
 503
CATEGORIES:English,Hosted by GetTrainedToHelp,Question, Persuade, Refer
 (QPR),Virtual
LOCATION:#
END:VEVENT
BEGIN:VTIMEZONE
TZID:America/Los_Angeles
X-LIC-LOCATION:America/Los_Angeles
BEGIN:DAYLIGHT
DTSTART:20260308T030000
TZOFFSETFROM:-0800
TZOFFSETTO:-0700
TZNAME:PDT
END:DAYLIGHT
END:VTIMEZONE
END:VCALENDAR