BEGIN:VCALENDAR
VERSION:2.0
PRODID:-//wp-events-plugin.com//7.2.2.1//EN
TZID:America/Los_Angeles
X-WR-TIMEZONE:America/Los_Angeles
BEGIN:VEVENT
UID:154@gettrainedtohelp.com
DTSTART;TZID=America/Los_Angeles:20260514T171500
DTEND;TZID=America/Los_Angeles:20260514T190000
DTSTAMP:20260422T182425Z
URL:https://gettrainedtohelp.com/events/free-question-persuade-refer-qpr-s
 uicide-prevention-training/
SUMMARY:QPR (Question Persuade Refer) Suicide Prevention Training
DESCRIPTION:May 14\, 2026\nTodos Juntos: 213 N. Molalla Ave\, Molalla\n\nQu
 estion\, Persuade\, Refer (QPR) is a brief\, evidence-based suicide preven
 tion training that teaches community members how to recognize the warning 
 signs of suicide\, ask directly about suicidal thoughts\, persuade someone
  to seek help\, and refer them to appropriate resources. Often described a
 s the “CPR of suicide prevention\,” QPR equips participants with simpl
 e\, practical skills that can be used with friends\, family members\, cowo
 rkers\, students\, or community members.
ATTACH;FMTTYPE=image/jpeg:https://i0.wp.com/gettrainedtohelp.com/wp-conten
 t/uploads/2023/05/QPR-Institute-logo.png?fit=2245%2C1189&ssl=1&ver=1720038
 503
CATEGORIES:In-Person,Question, Persuade, Refer (QPR)
LOCATION:Todos Juntos\, 213 N. Molalla Ave\, Molalla\, OR\, Clackamas Count
 y\,  97038\, United States
X-APPLE-STRUCTURED-LOCATION;VALUE=URI;X-ADDRESS=213 N. Molalla Ave\, Molall
 a\, OR\, Clackamas County\,  97038\, United States;X-APPLE-RADIUS=100;X-TI
 TLE=Todos Juntos:geo:0,0
END:VEVENT
BEGIN:VTIMEZONE
TZID:America/Los_Angeles
X-LIC-LOCATION:America/Los_Angeles
BEGIN:DAYLIGHT
DTSTART:20260308T030000
TZOFFSETFROM:-0800
TZOFFSETTO:-0700
TZNAME:PDT
END:DAYLIGHT
END:VTIMEZONE
END:VCALENDAR