BEGIN:VCALENDAR
VERSION:2.0
PRODID:-//wp-events-plugin.com//7.2.2.1//EN
TZID:America/Los_Angeles
X-WR-TIMEZONE:America/Los_Angeles
BEGIN:VEVENT
UID:155@gettrainedtohelp.com
DTSTART;TZID=America/Los_Angeles:20260517T124500
DTEND;TZID=America/Los_Angeles:20260517T150000
DTSTAMP:20260422T182511Z
URL:https://gettrainedtohelp.com/events/free-question-persuade-refer-qpr-s
 uicide-prevention-training-2/
SUMMARY:QPR (Question Persuade Refer) Suicide Prevention Training
DESCRIPTION:May 17. 2026\n\n12:45 PM - 3:00 PM\n\nDouglas Ridge Rifle Club 
 - 27787 OR-224\, Eagle Creek\, OR 97022\n\nQuestion\, Persuade\, Refer (QP
 R) is a brief\, evidence-based suicide prevention training that teaches co
 mmunity members how to recognize the warning signs of suicide\, ask direct
 ly about suicidal thoughts\, persuade someone to seek help\, and refer the
 m to appropriate resources. Often described as the “CPR of suicide preve
 ntion\,” QPR equips participants with simple\, practical skills that can
  be used with friends\, family members\, coworkers\, students\, or communi
 ty members. Additionally\, participants learn how to have respectful\, eff
 ective conversations about reducing access to lethal means—particularly 
 firearms and medications—during times of suicide risk. Research shows th
 at creating time and distance between a person in crisis and lethal means 
 can save lives.\n\nPLEASE USE THIS LINK TO Register: https://www.surveymon
 key.com/r/L35T39B
ATTACH;FMTTYPE=image/jpeg:https://i0.wp.com/gettrainedtohelp.com/wp-conten
 t/uploads/2023/05/QPR-Institute-logo.png?fit=2245%2C1189&ssl=1&ver=1720038
 503
CATEGORIES:In-Person,Question, Persuade, Refer (QPR),Suicide Prevention
 Classes
LOCATION:Douglas Ridge Rifle Club\, 27787 Hwy 224\, Eagle Creek\, Oregon\, 
 97022\, Clackamas County\, United States
GEO:45.373548;-122.376062
X-APPLE-STRUCTURED-LOCATION;VALUE=URI;X-ADDRESS=27787 Hwy 224\, Eagle Creek
 \, Oregon\, 97022\, Clackamas County\, United States;X-APPLE-RADIUS=100;X-
 TITLE=Douglas Ridge Rifle Club:geo:45.373548,-122.376062
END:VEVENT
BEGIN:VTIMEZONE
TZID:America/Los_Angeles
X-LIC-LOCATION:America/Los_Angeles
BEGIN:DAYLIGHT
DTSTART:20260308T030000
TZOFFSETFROM:-0800
TZOFFSETTO:-0700
TZNAME:PDT
END:DAYLIGHT
END:VTIMEZONE
END:VCALENDAR